BEGIN:VCALENDAR
VERSION:2.0
PRODID:-//Eastwood Collieries' Male Voice Choir (reg. charity no 241489) - ECPv6.15.20//NONSGML v1.0//EN
CALSCALE:GREGORIAN
METHOD:PUBLISH
X-WR-CALNAME:Eastwood Collieries' Male Voice Choir (reg. charity no 241489)
X-ORIGINAL-URL:https://www.ecmvc.org
X-WR-CALDESC:Events for Eastwood Collieries' Male Voice Choir (reg. charity no 241489)
REFRESH-INTERVAL;VALUE=DURATION:PT1H
X-Robots-Tag:noindex
X-PUBLISHED-TTL:PT1H
BEGIN:VTIMEZONE
TZID:Europe/London
BEGIN:DAYLIGHT
TZOFFSETFROM:+0000
TZOFFSETTO:+0100
TZNAME:BST
DTSTART:20210328T010000
END:DAYLIGHT
BEGIN:STANDARD
TZOFFSETFROM:+0100
TZOFFSETTO:+0000
TZNAME:GMT
DTSTART:20211031T010000
END:STANDARD
BEGIN:DAYLIGHT
TZOFFSETFROM:+0000
TZOFFSETTO:+0100
TZNAME:BST
DTSTART:20220327T010000
END:DAYLIGHT
BEGIN:STANDARD
TZOFFSETFROM:+0100
TZOFFSETTO:+0000
TZNAME:GMT
DTSTART:20221030T010000
END:STANDARD
BEGIN:DAYLIGHT
TZOFFSETFROM:+0000
TZOFFSETTO:+0100
TZNAME:BST
DTSTART:20230326T010000
END:DAYLIGHT
BEGIN:STANDARD
TZOFFSETFROM:+0100
TZOFFSETTO:+0000
TZNAME:GMT
DTSTART:20231029T010000
END:STANDARD
BEGIN:DAYLIGHT
TZOFFSETFROM:+0000
TZOFFSETTO:+0100
TZNAME:BST
DTSTART:20240331T010000
END:DAYLIGHT
BEGIN:STANDARD
TZOFFSETFROM:+0100
TZOFFSETTO:+0000
TZNAME:GMT
DTSTART:20241027T010000
END:STANDARD
END:VTIMEZONE
BEGIN:VEVENT
DTSTART;TZID=Europe/London:20231203T150000
DTEND;TZID=Europe/London:20231203T163000
DTSTAMP:20260423T190218
CREATED:20231108T140936Z
LAST-MODIFIED:20231108T141711Z
UID:24694-1701615600-1701621000@www.ecmvc.org
SUMMARY:ECMVC sing at the Mayor of Eastwood's Civic Service
DESCRIPTION:ECMVC are honoured to have been invited to sing at the Mayor of Eastwood’s Civic Service.
URL:https://www.ecmvc.org/event/ecmvc-sing-at-the-mayor-of-eastwoods-civic-service/
LOCATION:St Mary’s Church\, Eastwood\, Church St\, Eastwood\, Nottingham\, Nottinghamshire\, NG16 3BS\, United Kingdom
CATEGORIES:Community event
ORGANIZER;CN="Eastwood Town Council":MAILTO:townclerk@eastwood-tc.gov.uk
END:VEVENT
BEGIN:VEVENT
DTSTART;TZID=Europe/London:20231114T183000
DTEND;TZID=Europe/London:20231114T193000
DTSTAMP:20260423T190218
CREATED:20231108T142321Z
LAST-MODIFIED:20231111T072621Z
UID:24700-1699986600-1699990200@www.ecmvc.org
SUMMARY:(Private event) ECMVC sing to celebrate the 90th birthday of former chairman\, Dave Piggott
DESCRIPTION:PRIVATE FUNCTION \nWe’re delighted to be able to help former chairman\, Dave Piggott celebrate his 90th birthday.
URL:https://www.ecmvc.org/event/ecmvc-sing-to-celebrate-the-90th-birthday-of-former-chairman-dave-piggott/
CATEGORIES:Private function
END:VEVENT
BEGIN:VEVENT
DTSTART;TZID=Europe/London:20231028T110000
DTEND;TZID=Europe/London:20231028T140000
DTSTAMP:20260423T190218
CREATED:20230718T152401Z
LAST-MODIFIED:20230907T162702Z
UID:24342-1698490800-1698501600@www.ecmvc.org
SUMMARY:Eastwood Poppy Appeal Launch
DESCRIPTION:ECMVC will be appearing during the day to sing and support the launch of the Eastwood Poppy Appeal to be held on the Giltbrook Retail Park. Expect to see other musical contributions as well as a display of military vehicles to promote the sale of the 2023 poppy. \nCome along on Saturday 28 October 2023 and visit the exhibition by the shops. The day begins with a service at 11am.
URL:https://www.ecmvc.org/event/eastwood-poppy-appeal-launch/
LOCATION:Giltbrook Shopping Park\, Ikea Way\, Giltbrook\, Nottingham\, Nottinghamshire\, NG16 2RP\, United Kingdom
CATEGORIES:Community event
ATTACH;FMTTYPE=image/svg+xml:https://www.ecmvc.org/wp-content/uploads/2023/07/the-royal-british-legion-logo.svg
END:VEVENT
BEGIN:VEVENT
DTSTART;TZID=Europe/London:20231014T193000
DTEND;TZID=Europe/London:20231014T213000
DTSTAMP:20260423T190218
CREATED:20230708T105547Z
LAST-MODIFIED:20230901T163950Z
UID:24217-1697311800-1697319000@www.ecmvc.org
SUMMARY:Music at St Mary's (Greasley) with ECMVC and Rock 'n' Soul Singers
DESCRIPTION:We’re delighted to be joined by Underwood’s Rock ‘n’ Soul Singers for this event at Greasley Church. ECMVC even has a mention in one of the stained glass windows! \nRock ‘n’ Soul Singers is a mixed community choir based in Underwood\, Nottinghamshire. Established in 2012\, when a group of friends decided they wanted to sing\, the choir has continued to thrive and grow\, with membership now almost at full capacity. The choir’s repertoire covers rock\, pop and soul from the 1960’s to the present day. Rachel Cropley is Musical Director and Rachel is ably assisted by Alan Shepherd and accompanist\, Teresa Mills.  \nThis will be the third occasion that ECMVC and Rock ‘n’ Soul have shared a concert platform together and the previous occasions have provided the audience with a great mix of music styles. This concert will be no exception!   \nTickets (£10) are NOW ON SALE. If you have a contact in either of the choirs\, you can ask them if they have tickets available. However\, you can also call the number in the graphic above or purchase tickets online. The link for online bookings can be found in the event website link in the details below\, or you can use the link in the graphic above or scan the QR code with your phone to go straight to the ticketing site.
URL:https://www.ecmvc.org/event/music-at-st-marys-greasley/
LOCATION:St Mary’s Church\, Greasley\, St Mary's Church\,100 Church Road\, Greasley\, Nottingham\, NG16 2AB\, United Kingdom
CATEGORIES:Concert
ATTACH;FMTTYPE=image/jpeg:https://www.ecmvc.org/wp-content/uploads/2023/07/Music-at-St-Marys-v3-small-graphic-copy.jpg
END:VEVENT
BEGIN:VEVENT
DTSTART;TZID=Europe/London:20230910T160000
DTEND;TZID=Europe/London:20230910T173000
DTSTAMP:20260423T190218
CREATED:20230731T212850Z
LAST-MODIFIED:20230907T160659Z
UID:24425-1694361600-1694367000@www.ecmvc.org
SUMMARY:DH Lawrence Festival finale service
DESCRIPTION:ECMVC are delighted to have been invited to sing at the finale service of this year’s DH Lawrence Festival. One of the themes for the service is the contribution the Barber family have made to the community of the Eastwood area. Major T P Barber was the first patron of Eastwood Collieries’ Male Voice Choir and the choir were generously supported by the family business. \n\n\n\nFeaturing the renowned Eastwood Collieries’ Male Voice Choir\, alongside readings\, performances and audience participation\, the finale event will bring together the week’s events\, inspired by Lawrence’s love of the local landscape and the human richness in the local community. At St Mary’s Church\, Greasley.
URL:https://www.ecmvc.org/event/dh-lawrence-festival-finale-service/
LOCATION:St Mary’s Church\, Greasley\, St Mary's Church\,100 Church Road\, Greasley\, Nottingham\, NG16 2AB\, United Kingdom
CATEGORIES:Community event
ATTACH;FMTTYPE=image/jpeg:https://www.ecmvc.org/wp-content/uploads/2023/07/DHL-cropped.jpg
END:VEVENT
BEGIN:VEVENT
DTSTART;TZID=Europe/London:20230820T140000
DTEND;TZID=Europe/London:20230820T153000
DTSTAMP:20260423T190218
CREATED:20230809T185011Z
LAST-MODIFIED:20230816T173900Z
UID:24543-1692540000-1692545400@www.ecmvc.org
SUMMARY:ECMVC are popping up at the Sheps!
DESCRIPTION:Members of Eastwood Collieries’ Male Voice Choir will be popping along to the Shepherds Rest in Bagthorpe on Sunday 20 August to sing a few of our songs. We’d love to see you there!
URL:https://www.ecmvc.org/event/ecmvc-are-popping-up-at-the-sheps/
LOCATION:The Shepherds Rest\, Bagthorpe\, The Shepherds Rest\, Lower Bagthorpe\, Nottingham\, NG16 5HF\, United Kingdom
CATEGORIES:Community event
ATTACH;FMTTYPE=image/jpeg:https://www.ecmvc.org/wp-content/uploads/2023/08/Pop-Up-choir-graphic-for-sheps-NEW-DATE.jpg
END:VEVENT
BEGIN:VEVENT
DTSTART;TZID=Europe/London:20230819T100000
DTEND;TZID=Europe/London:20230819T160000
DTSTAMP:20260423T190218
CREATED:20230801T101219Z
LAST-MODIFIED:20230809T191805Z
UID:24433-1692439200-1692460800@www.ecmvc.org
SUMMARY:Teversal Village Open Day
DESCRIPTION:Eastwood Collieries’ Male Voice Choir will be represented at this fun event – and might even break into song at times! \n\n\n\nOther attractions include: \n\n\n\nPolice band Colliery band – who are also showing memorabilia and talking about the history of the bandColliery choir – showing memorabiliaMansfield Mining museum displayBilsthorpe heritageElizabethan societyDavid Coleman pit manMini railwayDisplay boards with memorabilia set up by discover AshfieldSlide show of local industryVictorian antiquesPolice with old uniforms and artifacts Display of old cricket/football/bowls trophies and photos  Old fashioned games and ridesVintage vehiclesMini market
URL:https://www.ecmvc.org/event/teversal-village-open-day/
LOCATION:Teversal Trails Visitor Centre\, Teversal Trails Visitor Centre\, Carnarvon Street\, Teversal\, Nottingham\, NG17 3HJ\, United Kingdom
CATEGORIES:Community event
ATTACH;FMTTYPE=image/png:https://www.ecmvc.org/wp-content/uploads/2023/08/Poster-PNG-4.png
END:VEVENT
BEGIN:VEVENT
DTSTART;TZID=Europe/London:20230729T193000
DTEND;TZID=Europe/London:20230729T213000
DTSTAMP:20260423T190218
CREATED:20230712T091831Z
LAST-MODIFIED:20230712T092414Z
UID:24319-1690659000-1690666200@www.ecmvc.org
SUMMARY:ECMVC quartet sing for MIND
DESCRIPTION:  \n  \n \nECMVC will be represented by a quartet from the choir at this event at Ravenshead Village Hall. Formed especially for the concert\, the quartet are called ‘MINED-FUL’ – hope you see what we did\, there! – and will be singing three items\, helping to raise funds for the very excellent charity\, Mind\, which offers help and support for those suffering mental health issues.
URL:https://www.ecmvc.org/event/ecmvc-quartet-sing-for-mind/
LOCATION:Ravenshead Village Hall\, 11 Vernon Cres\, Ravenshead\, Nottingham\, NG15 9BP\, United Kingdom
END:VEVENT
BEGIN:VEVENT
DTSTART;TZID=Europe/London:20230519T193000
DTEND;TZID=Europe/London:20230519T213000
DTSTAMP:20260423T190218
CREATED:20221008T152839Z
LAST-MODIFIED:20221008T152839Z
UID:24033-1684524600-1684531800@www.ecmvc.org
SUMMARY:ECMVC sing for Heanor Inner Wheel
DESCRIPTION:
URL:https://www.ecmvc.org/event/ecmvc-sing-for-heanor-inner-wheel/
LOCATION:Marlpool United Reformed Church\, Chapel Street\, Marlpool\, DE75 7NA\, United Kingdom
CATEGORIES:Private function
END:VEVENT
BEGIN:VEVENT
DTSTART;TZID=Europe/London:20230318T193000
DTEND;TZID=Europe/London:20230318T213000
DTSTAMP:20260423T190218
CREATED:20221007T151933Z
LAST-MODIFIED:20221008T152911Z
UID:24027-1679167800-1679175000@www.ecmvc.org
SUMMARY:ECMVC with special guests\, The Humberston Singers
DESCRIPTION:The Humberston Singers are visiting Eastwood for a joint concert with Eastwood Collieries’ Male Voice Choir. Our guests are an excellent mixed voices choir and in the past we have had the pleasure of being their guests in their hometown of Grimsby. This will be an excellent evening of a wide range of musical styles but\, as ever\, the quality is guaranteed.  \nThe concert will be the first major performance by ECMVC since the pandemic\, so we are looking forward to a large Eastwood audience!
URL:https://www.ecmvc.org/event/ecmvc-with-special-guests-the-humberston-singers/
LOCATION:Parish Church of St Mary\, Parish Church of St Mary\, Church Street\, Eastwood\, Nottinghamshire\, NG16 3BS
CATEGORIES:Concert
ORGANIZER;CN="Eastwood Collieries%E2%80%99 Male Voice Choir":MAILTO:secretary@ecmvc.org
END:VEVENT
BEGIN:VEVENT
DTSTART;TZID=Europe/London:20221223T180000
DTEND;TZID=Europe/London:20221223T184500
DTSTAMP:20260423T190218
CREATED:20220916T172416Z
LAST-MODIFIED:20221008T152937Z
UID:23997-1671818400-1671821100@www.ecmvc.org
SUMMARY:ECMVC sing around the Christmas Tree at Morley Hayes
DESCRIPTION:ECMVC will be leading guests in Singing Around the Christmas Tree\, one of the Christmas events organised by Morley Hayes. After the singing\, guests will move to the Pavilion Suite for a festive supper. \nPlease note\, this is an event for those who have booked with Morley Hayes. For more information about Morley Hayes and all their Christmas events\, including this one\, please use the link further down the page for the organiser’s website.
URL:https://www.ecmvc.org/event/ecmvc-sing-around-the-christmas-tree-at-morley-hayes/
LOCATION:Morley Hayes\, Main Road\, Morley\, Derbyshire\, DE7 6QA\, United Kingdom
CATEGORIES:Private function
END:VEVENT
BEGIN:VEVENT
DTSTART;TZID=Europe/London:20221113T101500
DTEND;TZID=Europe/London:20221113T113000
DTSTAMP:20260423T190218
CREATED:20220901T083839Z
LAST-MODIFIED:20221008T153001Z
UID:23947-1668334500-1668339000@www.ecmvc.org
SUMMARY:ECMVC sing at the Eastwood Remembrance Service
DESCRIPTION:ECMVC will be singing items for the gathering crowd at the Eastwood Remembrance Day Service at the town’s Cenotaph at the top of Plumptre Avenue.
URL:https://www.ecmvc.org/event/ecmvc-sing-at-the-eastwood-remembrance-service/
LOCATION:Eastwood Cenotaph\, Plumptre Way\, Eastwood\, Nottinghamshire\, United Kingdom
CATEGORIES:Community event
ORGANIZER;CN="Eastwood Town Council":MAILTO:townclerk@eastwood-tc.gov.uk
END:VEVENT
BEGIN:VEVENT
DTSTART;TZID=Europe/London:20220911T150000
DTEND;TZID=Europe/London:20220911T163000
DTSTAMP:20260423T190218
CREATED:20220901T083111Z
LAST-MODIFIED:20220901T083111Z
UID:23941-1662908400-1662913800@www.ecmvc.org
SUMMARY:D H Lawrence - finale community thanksgiving service
DESCRIPTION:Eastwood Collieries’ Male Voice Choir are contributing to this festival finale event. \nThe Festival ends with a vibrant community Thanksgiving Service\, organised by the Reverend Denise Dodd\, Vicar of St Mary’s\, to commemorate the themes of Mining Heritage and the sanctity of the local environment.
URL:https://www.ecmvc.org/event/d-h-lawrence-finale-community-thanksgiving-service/
LOCATION:St Mary’s Church\, Greasley\, St Mary's Church\,100 Church Road\, Greasley\, Nottingham\, NG16 2AB\, United Kingdom
END:VEVENT
BEGIN:VEVENT
DTSTART;TZID=Europe/London:20220827T133000
DTEND;TZID=Europe/London:20220827T153000
DTSTAMP:20260423T190218
CREATED:20220825T211729Z
LAST-MODIFIED:20220825T221739Z
UID:23928-1661607000-1661614200@www.ecmvc.org
SUMMARY:ECMVC Pop Up at the Foresters
DESCRIPTION:We’re popping up again on Saturday 27 August – this time at the Foresters arms\, Newthorpe\, from around 1.30pm. \nWe’ll be singing one or two songs that are new to our repertoire – and they’re ones that you’ll love singing along to. And if you fancy finding out more about how singing is really good for you\, have a chat with us\, even if you think and say that you can’t sing a note! \nHope to see you there…
URL:https://www.ecmvc.org/event/ecmvc-pop-up-at-the-foresters/
LOCATION:The Foresters Arms\, 254 Main St\, Newthorpe\, Giltbrook\, Nottingham\, NG16 2DN\, United Kingdom
CATEGORIES:Community event
ORGANIZER;CN="Eastwood Collieries%E2%80%99 Male Voice Choir":MAILTO:secretary@ecmvc.org
END:VEVENT
BEGIN:VEVENT
DTSTART;TZID=Europe/London:20220821T133000
DTEND;TZID=Europe/London:20220821T153000
DTSTAMP:20260423T190218
CREATED:20220808T090643Z
LAST-MODIFIED:20220825T222411Z
UID:23921-1661088600-1661095800@www.ecmvc.org
SUMMARY:ECMVC Pop Up Choir at Beauvale Priory
DESCRIPTION:ECMVC\, like all other choirs\, were prevented from singing together during most of the Covid pandemic and it’s taking quite a while to nurse voices back to where they were before the lockdown periods. \nThe pandemic brought the choir’s centenary celebrations to a premature end in 2020\, after launching the centenary year with two memorable concerts – at Nottingham’s Albert Hall and from the staircase in the Painted Hall at Chatsworth House. Sadly the remaining celebration events that were planned for the rest of 202 had to be cancelled – but it’s now time to get back on the road. \nECMVC is a male voice choir of all ages\, singing a wide variety of styles to suit everyone. If you\, or any blokes you know\, would like to find out more about how singing is a proven benefit to physical and mental well-being\, look no further than ECMVC! You don’t have to audition and you will discover that you really CAN sing\, despite telling everyone you can’t. And when you add your voice to everyone else’s\, there’s something very special in the sound you can produce together. \nWe’ll be at Beauvale Priory Tearooms with one or two short sets of songs from around 1.30pm (ish). This really informal jaunt into the countryside will give our chaps a much-needed boost of vitamin D and the chance of supping tea and enjoying a delicious cake (or two)! Oh – and we hope you’ll love what we sing and join in with us if you like.
URL:https://www.ecmvc.org/event/ecmvc-pop-up-choir-at-the-sheps/
LOCATION:Beauvale Priory Tea Rooms\, Beauvale Priory\, New Road\, Moorgreen\, Nottingham\, NG16 2AA\, United Kingdom
ORGANIZER;CN="Eastwood Collieries%E2%80%99 Male Voice Choir":MAILTO:secretary@ecmvc.org
END:VEVENT
END:VCALENDAR