BEGIN:VCALENDAR
VERSION:2.0
PRODID:-//Eastwood Collieries' Male Voice Choir (reg. charity no 241489) - ECPv6.15.20//NONSGML v1.0//EN
CALSCALE:GREGORIAN
METHOD:PUBLISH
X-ORIGINAL-URL:https://www.ecmvc.org
X-WR-CALDESC:Events for Eastwood Collieries' Male Voice Choir (reg. charity no 241489)
REFRESH-INTERVAL;VALUE=DURATION:PT1H
X-Robots-Tag:noindex
X-PUBLISHED-TTL:PT1H
BEGIN:VTIMEZONE
TZID:Europe/London
BEGIN:DAYLIGHT
TZOFFSETFROM:+0000
TZOFFSETTO:+0100
TZNAME:BST
DTSTART:20250330T010000
END:DAYLIGHT
BEGIN:STANDARD
TZOFFSETFROM:+0100
TZOFFSETTO:+0000
TZNAME:GMT
DTSTART:20251026T010000
END:STANDARD
BEGIN:DAYLIGHT
TZOFFSETFROM:+0000
TZOFFSETTO:+0100
TZNAME:BST
DTSTART:20260329T010000
END:DAYLIGHT
BEGIN:STANDARD
TZOFFSETFROM:+0100
TZOFFSETTO:+0000
TZNAME:GMT
DTSTART:20261025T010000
END:STANDARD
BEGIN:DAYLIGHT
TZOFFSETFROM:+0000
TZOFFSETTO:+0100
TZNAME:BST
DTSTART:20270328T010000
END:DAYLIGHT
BEGIN:STANDARD
TZOFFSETFROM:+0100
TZOFFSETTO:+0000
TZNAME:GMT
DTSTART:20271031T010000
END:STANDARD
END:VTIMEZONE
BEGIN:VEVENT
DTSTART;TZID=Europe/London:20260523T190000
DTEND;TZID=Europe/London:20260523T210000
DTSTAMP:20260423T171819
CREATED:20260222T090715Z
LAST-MODIFIED:20260222T090715Z
UID:25647-1779562800-1779570000@www.ecmvc.org
SUMMARY:ECMVC perform for Heanor Inner Wheel
DESCRIPTION:ECMVC have once again been invited to perform for the Heanor Inner Wheel Club Spring Concert\, at Marlpool United Reformed Church. The event is raising money for two very worthwhile charities – MND (Motor Neurone Disease) and Rainbows Hospice. \nThe ticket price of £10 includes refreshments and can be bought by calling 07707830157 or 07731653599. \nSee the details below for a location map and venue details.
URL:https://www.ecmvc.org/event/ecmvc-perform-for-heanor-inner-wheel/
LOCATION:Marlpool United Reformed Church\, Chapel Street\, Marlpool\, DE75 7NA\, United Kingdom
CATEGORIES:Concert
END:VEVENT
BEGIN:VEVENT
DTSTART;TZID=Europe/London:20260605T180000
DTEND;TZID=Europe/London:20260605T200000
DTSTAMP:20260423T171819
CREATED:20260222T092021Z
LAST-MODIFIED:20260222T092021Z
UID:25651-1780682400-1780689600@www.ecmvc.org
SUMMARY:ECMVC sing with the choir of Underwood Primary School
DESCRIPTION:Following our two previous\, very popular\, concerts with the choir of Underwood Primary School\, we have our next event with them fixed in the diary. \nOur first and second concerts were both huge successes and the Underwood Church venue was packed. \nWe’re already looking forward to the return visit! \nWhen tickets are on sale\, they will initially be restricted to parents of the Underwood children before being opened to general sale. Check back nearer the time using this website or our Facebook page for availability.
URL:https://www.ecmvc.org/event/ecmvc-sing-with-the-choir-of-underwood-primary-school/
LOCATION:St Michael & All Angels Church\, Underwood\, Church Lane\, Underwood\, Nottinghamshire\, NG16 5EY
CATEGORIES:Concert
END:VEVENT
BEGIN:VEVENT
DTSTART;TZID=Europe/London:20260829T140000
DTEND;TZID=Europe/London:20260829T160000
DTSTAMP:20260423T171819
CREATED:20260222T093521Z
LAST-MODIFIED:20260222T093521Z
UID:25657-1788012000-1788019200@www.ecmvc.org
SUMMARY:Concert with ECMVC and Leaside Singers for St Chad's Church
DESCRIPTION:Save the date if you wish to see two choirs performing at St Chad’s Church in Burton-on-Trent – 29 August at 2pm.
URL:https://www.ecmvc.org/event/concert-with-ecmvc-and-leaside-singers-for-st-chads-church/
LOCATION:St Chad’s Church\, Burton-on-Trent\, Hunter Street\, Burton-on-Trent\, DE14 2SS\, United Kingdom
CATEGORIES:Concert
END:VEVENT
BEGIN:VEVENT
DTSTART;TZID=Europe/London:20260919T000000
DTEND;TZID=Europe/London:20260919T235959
DTSTAMP:20260423T171819
CREATED:20260327T175032Z
LAST-MODIFIED:20260327T182442Z
UID:25710-1789776000-1789862399@www.ecmvc.org
SUMMARY:A Singing Day with Sonara Singers and ECMVC
DESCRIPTION:ECMVC join Sonara Singers in a day of singing\, one of many events celebrating their 90th Anniversary year. An evening concert will be the result of a fun day of singing together. Details will be available nearer the time.
URL:https://www.ecmvc.org/event/a-singing-day-with-sonara-singers-and-ecmvc/
LOCATION:St Mary’s Church\, Eastwood\, Church St\, Eastwood\, Nottingham\, Nottinghamshire\, NG16 3BS\, United Kingdom
CATEGORIES:Concert
END:VEVENT
BEGIN:VEVENT
DTSTART;TZID=Europe/London:20261011T000000
DTEND;TZID=Europe/London:20261011T235959
DTSTAMP:20260423T171819
CREATED:20260327T175420Z
LAST-MODIFIED:20260408T081826Z
UID:25713-1791676800-1791763199@www.ecmvc.org
SUMMARY:ECMVC visit Harrogate MVC
DESCRIPTION:ECMVC are going on a day trip and will be joining Harrogate MVC for an afternoon concert in this lovely part of the country. Details of the concert can be found in the poster – if you fancy following us for the day!
URL:https://www.ecmvc.org/event/ecmvc-visit-harrogate-mvc/
LOCATION:Starbeck Methodist Church\, 93 High Street\, Starbeck\, Harrogate\, North Yorkshire\, HG2 7LH\, United Kingdom
END:VEVENT
BEGIN:VEVENT
DTSTART;TZID=Europe/London:20261024T103000
DTEND;TZID=Europe/London:20261024T233000
DTSTAMP:20260423T171819
CREATED:20260222T092847Z
LAST-MODIFIED:20260222T092847Z
UID:25653-1792837800-1792884600@www.ecmvc.org
SUMMARY:The Eastwood RBL Poppy Launch
DESCRIPTION:The service will commence at 10.45am\, followed by the Last Post and a short performance by ECMVC. \nPoppies will be available and a display of various hardware and vehicles can be viewed.
URL:https://www.ecmvc.org/event/the-eastwood-rbl-poppy-launch/
LOCATION:Giltbrook Shopping Park\, Ikea Way\, Giltbrook\, Nottingham\, Nottinghamshire\, NG16 2RP\, United Kingdom
CATEGORIES:Community event
ATTACH;FMTTYPE=image/png:https://www.ecmvc.org/wp-content/uploads/2024/03/the-royal-british-legion-logo-copy-e1726044679565.png
END:VEVENT
BEGIN:VEVENT
DTSTART;TZID=Europe/London:20261024T190000
DTEND;TZID=Europe/London:20261024T210000
DTSTAMP:20260423T171819
CREATED:20260327T175813Z
LAST-MODIFIED:20260328T083429Z
UID:25715-1792868400-1792875600@www.ecmvc.org
SUMMARY:60th anniversary of the Aberfan disaster - a concert of remembrance
DESCRIPTION:We are honoured to be invited by our friends\, Bestwood MVC\, to join them for a concert commemorating the 60th anniversary of the tragic Aberfan disaster. \nBoth choirs have their roots firmly in the morning industry and have an affinity with the Aberfan community. \nMore details coming soon…
URL:https://www.ecmvc.org/event/60th-anniversary-of-the-aberfan-disaster-a-concert-of-remembrance/
LOCATION:tba
CATEGORIES:Concert
END:VEVENT
BEGIN:VEVENT
DTSTART;TZID=Europe/London:20261108T103000
DTEND;TZID=Europe/London:20261108T113000
DTSTAMP:20260423T171819
CREATED:20260327T180633Z
LAST-MODIFIED:20260327T180633Z
UID:25717-1794133800-1794137400@www.ecmvc.org
SUMMARY:Eastwood Remembrance Day Parade
DESCRIPTION:Eastwood Collieries’ Male Voice Choir are proud to have participated in recent Remembrance Day parades through Eastwood. The choir will once again be singing at the cenotaph at the top of Plumptre Way while the parade makes its way from St Mary’s Church. \nWe expect to be singing from around 10.30am.
URL:https://www.ecmvc.org/event/eastwood-remembrance-day-parade-2/
LOCATION:Eastwood Cenotaph\, Plumptre Way\, Eastwood\, Nottinghamshire\, United Kingdom
CATEGORIES:Community event
ORGANIZER;CN="Eastwood Town Council":MAILTO:townclerk@eastwood-tc.gov.uk
END:VEVENT
BEGIN:VEVENT
DTSTART;TZID=Europe/London:20261114T190000
DTEND;TZID=Europe/London:20261114T210000
DTSTAMP:20260423T171819
CREATED:20260222T094303Z
LAST-MODIFIED:20260222T094303Z
UID:25662-1794682800-1794690000@www.ecmvc.org
SUMMARY:ECMVC host special guests\, Swindon MVC
DESCRIPTION:ECMVC are very much looking forward to hosting our special guests\, Swindon Male Voice Choir\, for this joint concert at St Mary’s Church\, Eastwood. several ECMVC members met choristers from Swindon on a recent day’s workshop for MDs – singing ‘guinea pigs’! – and a link was formed immediately. \nFurther details will be available soon\, so do please check back here and/or on our Facebook page.
URL:https://www.ecmvc.org/event/ecmvc-host-special-guests-swindon-mvc/
LOCATION:Parish Church of St Mary\, Parish Church of St Mary\, Church Street\, Eastwood\, Nottinghamshire\, NG16 3BS
CATEGORIES:Concert
ORGANIZER;CN="Eastwood Collieries%E2%80%99 Male Voice Choir":MAILTO:secretary@ecmvc.org
END:VEVENT
BEGIN:VEVENT
DTSTART;TZID=Europe/London:20261128T170000
DTEND;TZID=Europe/London:20261128T210000
DTSTAMP:20260423T171819
CREATED:20260327T181022Z
LAST-MODIFIED:20260413T205240Z
UID:25719-1795885200-1795899600@www.ecmvc.org
SUMMARY:Eastwood Christmas lights switch-on
DESCRIPTION:ECMVC have been invited to sing at the Eastwood town lights switch on event this year. \nWe will be singing in the main Library Square are from around 5pm\, immediately before the switch-on
URL:https://www.ecmvc.org/event/eastwood-christmas-lights-switch-on-provisional/
LOCATION:Eastwood Town Centre
CATEGORIES:Community event
END:VEVENT
BEGIN:VEVENT
DTSTART;TZID=Europe/London:20261213T150000
DTEND;TZID=Europe/London:20261213T170000
DTSTAMP:20260423T171819
CREATED:20260327T182106Z
LAST-MODIFIED:20260327T182106Z
UID:25724-1797174000-1797181200@www.ecmvc.org
SUMMARY:ECMVC Christmas afternoon concert with Charlotte Mendly Singers
DESCRIPTION:After the first\, hugely successful Christmas concert with Charlotte’s singers\, we are delighted to be able to repeat the event this year. \nThe Christmas Afternoon concerts in 2024 and 2025 were both sell-out events – indeed\, last year’s concert with Rock ‘n’ Soul Singers saw an increased seating capacity of 200 sold-out weeks in advance. \nAnother block-buster of a joint performance for 2026\, then! \nTicket availability and prices will be available later in the year.
URL:https://www.ecmvc.org/event/ecmvc-christmas-afternoon-concert-with-charlotte-mendly-singers/
LOCATION:St Mary’s Church\, Eastwood\, Church St\, Eastwood\, Nottingham\, Nottinghamshire\, NG16 3BS\, United Kingdom
CATEGORIES:Concert
END:VEVENT
BEGIN:VEVENT
DTSTART;TZID=Europe/London:20261220T180000
DTEND;TZID=Europe/London:20261220T190000
DTSTAMP:20260423T171819
CREATED:20260222T095923Z
LAST-MODIFIED:20260222T095923Z
UID:25664-1797789600-1797793200@www.ecmvc.org
SUMMARY:ECMVC sing around the Christmas Tree at Morley Hayes
DESCRIPTION:Christmas 2026 will be ECMVC’s fourth consecutive visit to Morley Hayes Hotel and Golf Club for their ever-popular ‘Singing Around the Christmas Tree’ event. The evening starts with song (outside\, weather permitting) and then moves to a sit-down supper inside. Tickets are booked through Morley Hayes. \nThis annual occasion is organised by Morley Hayes as one of their packed schedule of events leading up to Christmas Day – the full schedule will be published soon and if you’re interested\, keep checking their website as the event sells out VERY quickly! \n(Please note\, the event price is inclusive of ECMVC and supper.)
URL:https://www.ecmvc.org/event/ecmvc-sing-around-the-christmas-tree-at-morley-hayes-2/
LOCATION:Morley Hayes\, Main Road\, Morley\, Derbyshire\, DE7 6QA\, United Kingdom
CATEGORIES:Private function
ATTACH;FMTTYPE=image/png:https://www.ecmvc.org/wp-content/uploads/2023/08/morley-hayes-logo-copy.png
END:VEVENT
END:VCALENDAR