BEGIN:VCALENDAR
VERSION:2.0
PRODID:-//Eastwood Collieries' Male Voice Choir (reg. charity no 241489) - ECPv6.15.20//NONSGML v1.0//EN
CALSCALE:GREGORIAN
METHOD:PUBLISH
X-ORIGINAL-URL:https://www.ecmvc.org
X-WR-CALDESC:Events for Eastwood Collieries' Male Voice Choir (reg. charity no 241489)
REFRESH-INTERVAL;VALUE=DURATION:PT1H
X-Robots-Tag:noindex
X-PUBLISHED-TTL:PT1H
BEGIN:VTIMEZONE
TZID:Europe/London
BEGIN:DAYLIGHT
TZOFFSETFROM:+0000
TZOFFSETTO:+0100
TZNAME:BST
DTSTART:20220327T010000
END:DAYLIGHT
BEGIN:STANDARD
TZOFFSETFROM:+0100
TZOFFSETTO:+0000
TZNAME:GMT
DTSTART:20221030T010000
END:STANDARD
BEGIN:DAYLIGHT
TZOFFSETFROM:+0000
TZOFFSETTO:+0100
TZNAME:BST
DTSTART:20230326T010000
END:DAYLIGHT
BEGIN:STANDARD
TZOFFSETFROM:+0100
TZOFFSETTO:+0000
TZNAME:GMT
DTSTART:20231029T010000
END:STANDARD
BEGIN:DAYLIGHT
TZOFFSETFROM:+0000
TZOFFSETTO:+0100
TZNAME:BST
DTSTART:20240331T010000
END:DAYLIGHT
BEGIN:STANDARD
TZOFFSETFROM:+0100
TZOFFSETTO:+0000
TZNAME:GMT
DTSTART:20241027T010000
END:STANDARD
BEGIN:DAYLIGHT
TZOFFSETFROM:+0000
TZOFFSETTO:+0100
TZNAME:BST
DTSTART:20250330T010000
END:DAYLIGHT
BEGIN:STANDARD
TZOFFSETFROM:+0100
TZOFFSETTO:+0000
TZNAME:GMT
DTSTART:20251026T010000
END:STANDARD
BEGIN:DAYLIGHT
TZOFFSETFROM:+0000
TZOFFSETTO:+0100
TZNAME:BST
DTSTART:20260329T010000
END:DAYLIGHT
BEGIN:STANDARD
TZOFFSETFROM:+0100
TZOFFSETTO:+0000
TZNAME:GMT
DTSTART:20261025T010000
END:STANDARD
BEGIN:DAYLIGHT
TZOFFSETFROM:+0000
TZOFFSETTO:+0100
TZNAME:BST
DTSTART:20270328T010000
END:DAYLIGHT
BEGIN:STANDARD
TZOFFSETFROM:+0100
TZOFFSETTO:+0000
TZNAME:GMT
DTSTART:20271031T010000
END:STANDARD
END:VTIMEZONE
BEGIN:VEVENT
DTSTART;TZID=Europe/London:20260328T193000
DTEND;TZID=Europe/London:20260328T213000
DTSTAMP:20260425T132435
CREATED:20260222T084947Z
LAST-MODIFIED:20260301T082023Z
UID:25641-1774726200-1774733400@www.ecmvc.org
SUMMARY:CANCELLED - Voices for Veterans
DESCRIPTION:WE ARE DISAPPOINTED TO REPORT THAT THIS EVENT HAS BEEN CANCELLED BY THE ORGANISERS – PLEASE USE THE TRYBOOKING LINK BELOW TO REQUEST REFUNDS FOR ANY TICKETS PURCHASED. \nECMVC are delighted to have been invited to perform this excellent event in Alfreton\, a fundraising concert of music by Eastwood Collieries Male Voice Choir to support the Royal British Legion (Heanor Branch). The RBL works tirelessly to support our veterans and their families in their time of need. Local branches offer first contact and on-going support for veterans within their communities. \nSaturday 28 March at 7.30pm is the date and time and proceeds will be donated to the Royal British Legion. \nThe venue is the David Neiper Academy in Alfreton and tickets are now on sale online. \n 
URL:https://www.ecmvc.org/event/voices-for-veterans/
LOCATION:The David Neiper Academy\, Grange Street\, Alfreton\, Derbyshire\, DE55 7JA
CATEGORIES:Concert
END:VEVENT
BEGIN:VEVENT
DTSTART;TZID=Europe/London:20251221T180000
DTEND;TZID=Europe/London:20251221T190000
DTSTAMP:20260425T132435
CREATED:20250204T161426Z
LAST-MODIFIED:20250607T062855Z
UID:25262-1766340000-1766343600@www.ecmvc.org
SUMMARY:Carols and festive fun at Morley Hayes
DESCRIPTION:Last Christmas\, for the third year in a row\, ECMVC had a wonderful time entertaining guests who had bought the special supper and carols package. Everyone had a great time and it was a wonderful way to get set for Christmas Day itself! And we’re returning again to this lovely venue to help the festive supper event be the magical event it has developed into. The choir will be singing from 6pm and will continue until guests are served with their meals. Pricing is set by the Morley Hayes events team and places need to be booked and paid for directly with them. The event is always extremely popular and quickly becomes booked up\, so keep an eye on the Morley Hayes web site and Facebook page!
URL:https://www.ecmvc.org/event/carols-and-festive-fun-at-morley-hayes-2/
LOCATION:Morley Hayes\, Main Road\, Morley\, Derbyshire\, DE7 6QA\, United Kingdom
CATEGORIES:Concert,Private function
ATTACH;FMTTYPE=image/png:https://www.ecmvc.org/wp-content/uploads/2023/08/morley-hayes-logo-copy.png
END:VEVENT
BEGIN:VEVENT
DTSTART;TZID=Europe/London:20251214T150000
DTEND;TZID=Europe/London:20251214T163000
DTSTAMP:20260425T132435
CREATED:20250317T175256Z
LAST-MODIFIED:20251210T200014Z
UID:25311-1765724400-1765729800@www.ecmvc.org
SUMMARY:ECMVC's afternoon Christmas Concert - SOLD OUT!
DESCRIPTION:THIS EVENT IS SOLD OUT! \nWe’re delighted to be joined by Rock ‘n’ Soul Singers from Underwood for our afternoon Christmas Concert this year. We’ve sung with Rock ‘n’ Soul on a number of occasions and a varied and enjoyable afternoon of music is guaranteed. \n 
URL:https://www.ecmvc.org/event/ecmvcs-afternoon-christmas-concert/
LOCATION:St Mary’s Church\, Eastwood\, Church St\, Eastwood\, Nottingham\, Nottinghamshire\, NG16 3BS\, United Kingdom
CATEGORIES:Concert
ORGANIZER;CN="Eastwood Collieries%E2%80%99 Male Voice Choir":MAILTO:secretary@ecmvc.org
END:VEVENT
BEGIN:VEVENT
DTSTART;TZID=Europe/London:20251130T140000
DTEND;TZID=Europe/London:20251130T144500
DTSTAMP:20260425T132435
CREATED:20250818T235453Z
LAST-MODIFIED:20251105T081031Z
UID:25453-1764511200-1764513900@www.ecmvc.org
SUMMARY:Nottingham Castle Christmas Market 2025
DESCRIPTION:ECMVC are delighted to have been invited to perform at the Nottingham Castle Christmas Market 2025. \nWe will be performing on Sunday 30 November between 2pm and 3pm. Tickets can be purchased online for just £2 per adult (less for young people)\, plus a small booking fee. If you turn up on the day without a ticket\, the price of admission will be the standard castle entrance cost\, which is much higher. \nWhen booking your tickets\, you also need to state your arrival time. \nWe’ll be singing a mix of our regular repertoire and Christmas items. \nSee the links below for venue and ticketing details. \nFor the very first time\, the Christmas Market at Nottingham Castle will sparkle for three whole days! \nEnjoy seasonal shopping\, family-friendly activities\, and plenty of festive entertainment. With over 90 stalls to discover\, exciting performances\, and delights for all ages\, there truly is something for everyone.
URL:https://www.ecmvc.org/event/nottingham-castle-christmas-market-2025/
LOCATION:Nottingham Castle\, Lenton Road\, Nottingham\, NG1 6EL\, United Kingdom
CATEGORIES:Concert
ATTACH;FMTTYPE=image/png:https://www.ecmvc.org/wp-content/uploads/2025/08/nct-rh-logo-scaled-e1755561024631.png
END:VEVENT
BEGIN:VEVENT
DTSTART;TZID=Europe/London:20251115T190000
DTEND;TZID=Europe/London:20251115T213000
DTSTAMP:20260425T132435
CREATED:20250807T155917Z
LAST-MODIFIED:20251025T055644Z
UID:25407-1763233200-1763242200@www.ecmvc.org
SUMMARY:Joint concert with Bestwood Male Voice Choir
DESCRIPTION:ECMVC are performing as guests of Bestwood MVC in a joint concert at the Central Methodist Church in Hucknall. \nDirections to the venue and all other details can be found below\, including the link to the TryBooking online ticket sales web page. \nWe’re really looking forward to singing with Bestwood and the evening is sure to be filled with wonderful music.
URL:https://www.ecmvc.org/event/joint-concert-with-bestwood-male-voice-choir/
LOCATION:Central Methodist Church\, Hucknall\, Baker Street\, Hucknall\, Nottingham\, NG15 7AS\, United Kingdom
CATEGORIES:Concert
END:VEVENT
BEGIN:VEVENT
DTSTART;TZID=Europe/London:20250830T150000
DTEND;TZID=Europe/London:20250830T170000
DTSTAMP:20260425T132435
CREATED:20250807T063903Z
LAST-MODIFIED:20250830T061638Z
UID:25405-1756566000-1756573200@www.ecmvc.org
SUMMARY:Sing Out Summer (sold out)
DESCRIPTION:Come along to St Mary’s Church\, Eastwood for ECMVC’s FREE afternoon concert on Saturday 30 August at 3pm\, when we’ll be joined by very special guest\, the wonderfully talented soloist\, Nicola Hunt.\n\nThis special concert has been arranged to thank our friends and followers for their support so far this year – and as admission is free\, we also thought it would be a great opportunity for those who haven’t yet experienced an ECMVC concert to try us out for the first time.\n\nWe have exciting news to share with the audience\, together with a programme that includes choir and audience favourites and new items.\n\nThis will be our last appearance at St Mary’s until our afternoon Christmas concert on Sunday 14 December\, so come along (did we say it’s FREE?) and see what the fuss is all about! Our concerts at St Mary’s normally sell out very quickly\, so if you want a ticket for this one\, make sure you book or reserve one sooner rather than later.\n\nYou will still need a ticket as we have to keep a check on seat availability – our online ticketing system will be open from 9am Monday 11 August (click or tap the ad below to go straight to TryBooking and book tickets). You can also reserve tickets via other channels\, including telephone/text messages and choir members.\n\nWe’ll be introducing a new charity we’re supporting – The Amazon Breast Cancer Support Group based at Kings Mill Hospital – and there will be an opportunity to donate to this worthy cause as well.\n\nHope to see you at St Mary’s Church\, Church Street\, Eastwood on 30 August!
URL:https://www.ecmvc.org/event/sing-out-summer/
LOCATION:St Mary’s Church\, Eastwood\, Church St\, Eastwood\, Nottingham\, Nottinghamshire\, NG16 3BS\, United Kingdom
CATEGORIES:Concert
ATTACH;FMTTYPE=image/jpeg:https://www.ecmvc.org/wp-content/uploads/2025/08/Sing-Out-Summer-Flash-graphic-for-FB-copy-e1754768349385.jpg
ORGANIZER;CN="Eastwood Collieries%E2%80%99 Male Voice Choir":MAILTO:secretary@ecmvc.org
END:VEVENT
BEGIN:VEVENT
DTSTART;TZID=Europe/London:20250621T150000
DTEND;TZID=Europe/London:20250621T170000
DTSTAMP:20260425T132435
CREATED:20241119T084606Z
LAST-MODIFIED:20250612T114046Z
UID:25197-1750518000-1750525200@www.ecmvc.org
SUMMARY:ECMVC and guests Everyone Can Sing
DESCRIPTION:The Eastwood Collieries’ Male Voice Choir presents a summer afternoon concert of singing in St Mary’s Church\, Eastwood\, with special guests\, ‘ECS Singers’ and ‘Kirkby Chorus’. This event will demonstrate the joy of singing and performing in a group.\n\nKirkby Chorus was established in June 2021\, near the end of the COVID-19 pandemic\, to help combat the isolation many felt during lockdown. They are a community choir passionate about singing and fostering an inclusive\, welcoming environment. Open to all ages and backgrounds\, they focus on fun\, community engagement\, and learning songs and harmonies.\n\nECS Singers are a community choir formed nine years ago under the organisation of ‘Everyone can sing’. They enjoy making a contribution to their local community and collaborate more widely with other choirs.
URL:https://www.ecmvc.org/event/ecmvc-and-guests-everyone-can-sing/
LOCATION:St Mary’s Church\, Eastwood\, Church St\, Eastwood\, Nottingham\, Nottinghamshire\, NG16 3BS\, United Kingdom
CATEGORIES:Concert
ATTACH;FMTTYPE=image/jpeg:https://www.ecmvc.org/wp-content/uploads/2024/11/Hello-Summer-Flash-graphic-for-FB-V2-copy-e1749727731573.jpg
ORGANIZER;CN="Eastwood Collieries%E2%80%99 Male Voice Choir":MAILTO:secretary@ecmvc.org
END:VEVENT
BEGIN:VEVENT
DTSTART;TZID=Europe/London:20250606T190000
DTEND;TZID=Europe/London:20250606T203000
DTSTAMP:20260425T132435
CREATED:20241119T084111Z
LAST-MODIFIED:20250429T081128Z
UID:25195-1749236400-1749241800@www.ecmvc.org
SUMMARY:ECMVC in concert with Underwood Primary School
DESCRIPTION:Following our first concert with the choir of Underwood Primary School\, we have our next concert with them fixed in the diary. \n2024’s concert was a huge success and the Underwood Church venue was packed. \nWe’re already looking forward to the return visit! \nFor a limited time only\, sale of tickets will initially be restricted to parents of the Underwood children before being opened to general sales.
URL:https://www.ecmvc.org/event/ecmvc-in-concert-with-underwood-primary-school/
LOCATION:St Michael & All Angels Church\, Underwood\, Church Lane\, Underwood\, Nottinghamshire\, NG16 5EY
CATEGORIES:Concert
ATTACH;FMTTYPE=image/jpeg:https://www.ecmvc.org/wp-content/uploads/2024/11/One-Voice-2-flash-graphic-June-2025-copy-e1745914277966.jpg
END:VEVENT
BEGIN:VEVENT
DTSTART;TZID=Europe/London:20250510T190000
DTEND;TZID=Europe/London:20250510T213000
DTSTAMP:20260425T132435
CREATED:20241119T081257Z
LAST-MODIFIED:20250403T104600Z
UID:25190-1746903600-1746912600@www.ecmvc.org
SUMMARY:NAC Midlands East concert
DESCRIPTION:ECMVC will be performing with four other choirs at this event\, which is hosted by Bestwood MVC at St Mary Magdalene Church\, in Hucknall. Address details and a map can be seen below. \nTickets are £10 and are available online only.
URL:https://www.ecmvc.org/event/nac-midlands-east-concert/
LOCATION:St Mary Magdalene Church\, South Street\, Hucknall\, Nottingham\, NG15 7FQ\, United Kingdom
CATEGORIES:Concert
END:VEVENT
BEGIN:VEVENT
DTSTART;TZID=Europe/London:20241222T180000
DTEND;TZID=Europe/London:20241222T210000
DTSTAMP:20260425T132435
CREATED:20240312T161401Z
LAST-MODIFIED:20241212T163236Z
UID:24907-1734890400-1734901200@www.ecmvc.org
SUMMARY:Carols and festive fun at Morley Hayes - SOLD OUT!
DESCRIPTION:Last Christmas\, ECMVC had a wonderful time entertaining guests who had bought the special supper and carols package. Everyone had a great time and it was a wonderful way to get set for Christmas Day itself! And we’re returning again to this lovely venue to help the festive supper event be the magical event it has developed into. The choir will be singing from 6pm and will continue until guests are served with their meals. Pricing is set by the Morley Hayes events team and places need to be booked and paid for directly with them. The event is open to the public and is open for booking now. (Children under 10 are half-price.) But the event is always extremey popular and quickly becomes booked up! \nView the Morley Hayes Christmas Brochure.
URL:https://www.ecmvc.org/event/carols-and-festive-fun-at-morley-hayes/
LOCATION:Morley Hayes\, Main Road\, Morley\, Derbyshire\, DE7 6QA\, United Kingdom
CATEGORIES:Concert
ATTACH;FMTTYPE=image/png:https://www.ecmvc.org/wp-content/uploads/2023/08/morley-hayes-logo-copy.png
END:VEVENT
BEGIN:VEVENT
DTSTART;TZID=Europe/London:20241215T150000
DTEND;TZID=Europe/London:20241215T170000
DTSTAMP:20260425T132435
CREATED:20240312T161815Z
LAST-MODIFIED:20241206T115816Z
UID:24909-1734274800-1734282000@www.ecmvc.org
SUMMARY:The ECMVC Christmas Concert - SOLD OUT!
DESCRIPTION:SOLD OUT! \nIt has been quite a few years since the choir appeared in its own Christmas concert on home ground and we’re delighted to be joined by the Brinsley and Nuthall Community Choir at St Mary’s Church in Eastwood! The event is a family occasion and will have a 3pm start.
URL:https://www.ecmvc.org/event/the-ecmvc-christmas-concert/
LOCATION:St Mary’s Church\, Eastwood\, Church St\, Eastwood\, Nottingham\, Nottinghamshire\, NG16 3BS\, United Kingdom
CATEGORIES:Concert
ATTACH;FMTTYPE=image/jpeg:https://www.ecmvc.org/wp-content/uploads/2024/03/Christmas-2024-flash-graphic-FB-copy-e1730137987891.jpg
ORGANIZER;CN="Eastwood Collieries%E2%80%99 Male Voice Choir":MAILTO:secretary@ecmvc.org
END:VEVENT
BEGIN:VEVENT
DTSTART;TZID=Europe/London:20241109T193000
DTEND;TZID=Europe/London:20241109T213000
DTSTAMP:20260425T132435
CREATED:20240306T164118Z
LAST-MODIFIED:20241013T113921Z
UID:24881-1731180600-1731187800@www.ecmvc.org
SUMMARY:ECMVC joint concert with Dalesmen MVC
DESCRIPTION:ECMVC are delighted to be renewing our acquaintance with the Dalesmen Male Voice Choir from Derbyshire. The venue is ECMVC’s home ground of St Mary’s Church in Eastwood and tickets are on sale now\, priced at £10 for adults and £5 for under-18s. Tickets can be purchased via choir members\, or online using our online booking site. (No fees are currently charged for using this service.) Alternatively\, tickets can be reserved to be picked up and paid for on the door by calling 07802 758223. \nInterval refreshments and a raffle will be available. \nSt Mary’s Church has been raising funds for essential repairs to the structure which supports its eight bells and we hope to be able to make a significant contribution to this project from the event proceeds . \nOur last few events in Eastwood have had capacity audiences\, so please book tickets early to avoid disappointment.
URL:https://www.ecmvc.org/event/ecmvc-joint-concert-with-dalesmen-mvc/
LOCATION:St Mary’s Church\, Eastwood\, Church St\, Eastwood\, Nottingham\, Nottinghamshire\, NG16 3BS\, United Kingdom
CATEGORIES:Concert
ATTACH;FMTTYPE=image/jpeg:https://www.ecmvc.org/wp-content/uploads/2024/03/flash-graphic-FB-early-v1-copy-e1728819282407.jpg
ORGANIZER;CN="Eastwood Collieries%E2%80%99 Male Voice Choir":MAILTO:secretary@ecmvc.org
END:VEVENT
BEGIN:VEVENT
DTSTART;TZID=Europe/London:20241005T193000
DTEND;TZID=Europe/London:20241005T213000
DTSTAMP:20260425T132435
CREATED:20231021T154909Z
LAST-MODIFIED:20241001T105755Z
UID:24680-1728156600-1728163800@www.ecmvc.org
SUMMARY:Mansfield & District MVC's 80th Anniversary Concert - with ECMVC and others
DESCRIPTION:  \nECMVC are delighted to have been invited to perform in this wonderful event. \nMansfield MVC have described this wonderful 80th Anniversary event as follows: \n\n\n\n“To mark such a special anniversary we have invited three of our fellow male voice choirs (Bestwood MVC\, Eastwood Collieries MVC and St. Edmundsbury MVC) together with the exciting Ravenshead Swing Band to join us in Southwell Minster.” \n\n\n\n\n\n  \nTickets are £20. Purchase them online…
URL:https://www.ecmvc.org/event/mansfield-district-mvcs-80th-anniversary-concert-with-ecmvc-and-others/
LOCATION:Southwell Minster\, Church St\, Southwell\, Nottinghamshire\, NG25 0HD\, United Kingdom
CATEGORIES:Concert
END:VEVENT
BEGIN:VEVENT
DTSTART;TZID=Europe/London:20240607T190000
DTEND;TZID=Europe/London:20240607T203000
DTSTAMP:20260425T132435
CREATED:20240312T155932Z
LAST-MODIFIED:20240516T163952Z
UID:24902-1717786800-1717792200@www.ecmvc.org
SUMMARY:One Voice - ECMVC sing with Underwood Primary School
DESCRIPTION:It’s always a delight to sing with the younger members of our communities and this event will be no exception. ECMVC will be joined by children from Underwood CE Primary School for what promises to be a fabulous night of singing. \nTickets will initially be restricted to parents and families of children who attend Underwood CE Primary School but after this initial period any remaining tickets will be released to ECMVC for general sale.
URL:https://www.ecmvc.org/event/ecmvc-sing-with-underwood-primary-school/
LOCATION:St Michael & All Angels Church\, Underwood\, Church Lane\, Underwood\, Nottinghamshire\, NG16 5EY
CATEGORIES:Concert
ATTACH;FMTTYPE=image/jpeg:https://www.ecmvc.org/wp-content/uploads/2024/03/One-Voice-flash-graphic-for-FB-June-2024-copy-e1714823279717.jpg
ORGANIZER;CN="Eastwood Collieries%E2%80%99 Male Voice Choir":MAILTO:secretary@ecmvc.org
END:VEVENT
BEGIN:VEVENT
DTSTART;TZID=Europe/London:20240427T193000
DTEND;TZID=Europe/London:20240427T213000
DTSTAMP:20260425T132435
CREATED:20240319T161847Z
LAST-MODIFIED:20240504T113359Z
UID:24942-1714246200-1714253400@www.ecmvc.org
SUMMARY:Sing Into Spring
DESCRIPTION:ECMVC are joined by their friends\, the Pye Hill & District Male Voice Choir for this event in Eastwood. Pye Hill appeared at ECMVC’s centenary concert at Nottingham’s Albert Hall in September 2019 and we are delighted to host them at St Mary’s this year. \n\n\n\nExpect the unexpected as the two choirs will be singing items from their own repertoire as well as a couple of joint items. \n\n\n\nTickets can be purchased via choir members\, or by calling 07802 758223\, or bought online (we don’t charge fees!) at https://www.trybooking.com/uk/DHIV. \n\n\n\nTickets cost £10 for adults and £5 for under-18s and include interval refreshments.
URL:https://www.ecmvc.org/event/sing-into-spring/
LOCATION:St Mary’s Church\, Eastwood\, Church St\, Eastwood\, Nottingham\, Nottinghamshire\, NG16 3BS\, United Kingdom
CATEGORIES:Concert
ATTACH;FMTTYPE=image/jpeg:https://www.ecmvc.org/wp-content/uploads/2024/03/SingIntoSpring-flash-graphic-trybooking-v1-copy-e1714822428471.jpg
ORGANIZER;CN="Eastwood Collieries%E2%80%99 Male Voice Choir":MAILTO:secretary@ecmvc.org
END:VEVENT
BEGIN:VEVENT
DTSTART;TZID=Europe/London:20231014T193000
DTEND;TZID=Europe/London:20231014T213000
DTSTAMP:20260425T132435
CREATED:20230708T105547Z
LAST-MODIFIED:20230901T163950Z
UID:24217-1697311800-1697319000@www.ecmvc.org
SUMMARY:Music at St Mary's (Greasley) with ECMVC and Rock 'n' Soul Singers
DESCRIPTION:We’re delighted to be joined by Underwood’s Rock ‘n’ Soul Singers for this event at Greasley Church. ECMVC even has a mention in one of the stained glass windows! \nRock ‘n’ Soul Singers is a mixed community choir based in Underwood\, Nottinghamshire. Established in 2012\, when a group of friends decided they wanted to sing\, the choir has continued to thrive and grow\, with membership now almost at full capacity. The choir’s repertoire covers rock\, pop and soul from the 1960’s to the present day. Rachel Cropley is Musical Director and Rachel is ably assisted by Alan Shepherd and accompanist\, Teresa Mills.  \nThis will be the third occasion that ECMVC and Rock ‘n’ Soul have shared a concert platform together and the previous occasions have provided the audience with a great mix of music styles. This concert will be no exception!   \nTickets (£10) are NOW ON SALE. If you have a contact in either of the choirs\, you can ask them if they have tickets available. However\, you can also call the number in the graphic above or purchase tickets online. The link for online bookings can be found in the event website link in the details below\, or you can use the link in the graphic above or scan the QR code with your phone to go straight to the ticketing site.
URL:https://www.ecmvc.org/event/music-at-st-marys-greasley/
LOCATION:St Mary’s Church\, Greasley\, St Mary's Church\,100 Church Road\, Greasley\, Nottingham\, NG16 2AB\, United Kingdom
CATEGORIES:Concert
ATTACH;FMTTYPE=image/jpeg:https://www.ecmvc.org/wp-content/uploads/2023/07/Music-at-St-Marys-v3-small-graphic-copy.jpg
END:VEVENT
BEGIN:VEVENT
DTSTART;TZID=Europe/London:20230318T193000
DTEND;TZID=Europe/London:20230318T213000
DTSTAMP:20260425T132435
CREATED:20221007T151933Z
LAST-MODIFIED:20221008T152911Z
UID:24027-1679167800-1679175000@www.ecmvc.org
SUMMARY:ECMVC with special guests\, The Humberston Singers
DESCRIPTION:The Humberston Singers are visiting Eastwood for a joint concert with Eastwood Collieries’ Male Voice Choir. Our guests are an excellent mixed voices choir and in the past we have had the pleasure of being their guests in their hometown of Grimsby. This will be an excellent evening of a wide range of musical styles but\, as ever\, the quality is guaranteed.  \nThe concert will be the first major performance by ECMVC since the pandemic\, so we are looking forward to a large Eastwood audience!
URL:https://www.ecmvc.org/event/ecmvc-with-special-guests-the-humberston-singers/
LOCATION:Parish Church of St Mary\, Parish Church of St Mary\, Church Street\, Eastwood\, Nottinghamshire\, NG16 3BS
CATEGORIES:Concert
ORGANIZER;CN="Eastwood Collieries%E2%80%99 Male Voice Choir":MAILTO:secretary@ecmvc.org
END:VEVENT
END:VCALENDAR