BEGIN:VCALENDAR
VERSION:2.0
PRODID:-//Eastwood Collieries' Male Voice Choir (reg. charity no 241489) - ECPv6.15.20//NONSGML v1.0//EN
CALSCALE:GREGORIAN
METHOD:PUBLISH
X-ORIGINAL-URL:https://www.ecmvc.org
X-WR-CALDESC:Events for Eastwood Collieries' Male Voice Choir (reg. charity no 241489)
REFRESH-INTERVAL;VALUE=DURATION:PT1H
X-Robots-Tag:noindex
X-PUBLISHED-TTL:PT1H
BEGIN:VTIMEZONE
TZID:Europe/London
BEGIN:DAYLIGHT
TZOFFSETFROM:+0000
TZOFFSETTO:+0100
TZNAME:BST
DTSTART:20250330T010000
END:DAYLIGHT
BEGIN:STANDARD
TZOFFSETFROM:+0100
TZOFFSETTO:+0000
TZNAME:GMT
DTSTART:20251026T010000
END:STANDARD
BEGIN:DAYLIGHT
TZOFFSETFROM:+0000
TZOFFSETTO:+0100
TZNAME:BST
DTSTART:20260329T010000
END:DAYLIGHT
BEGIN:STANDARD
TZOFFSETFROM:+0100
TZOFFSETTO:+0000
TZNAME:GMT
DTSTART:20261025T010000
END:STANDARD
BEGIN:DAYLIGHT
TZOFFSETFROM:+0000
TZOFFSETTO:+0100
TZNAME:BST
DTSTART:20270328T010000
END:DAYLIGHT
BEGIN:STANDARD
TZOFFSETFROM:+0100
TZOFFSETTO:+0000
TZNAME:GMT
DTSTART:20271031T010000
END:STANDARD
END:VTIMEZONE
BEGIN:VEVENT
DTSTART;TZID=Europe/London:20261024T103000
DTEND;TZID=Europe/London:20261024T233000
DTSTAMP:20260425T113135
CREATED:20260222T092847Z
LAST-MODIFIED:20260222T092847Z
UID:25653-1792837800-1792884600@www.ecmvc.org
SUMMARY:The Eastwood RBL Poppy Launch
DESCRIPTION:The service will commence at 10.45am\, followed by the Last Post and a short performance by ECMVC. \nPoppies will be available and a display of various hardware and vehicles can be viewed.
URL:https://www.ecmvc.org/event/the-eastwood-rbl-poppy-launch/
LOCATION:Giltbrook Shopping Park\, Ikea Way\, Giltbrook\, Nottingham\, Nottinghamshire\, NG16 2RP\, United Kingdom
CATEGORIES:Community event
ATTACH;FMTTYPE=image/png:https://www.ecmvc.org/wp-content/uploads/2024/03/the-royal-british-legion-logo-copy-e1726044679565.png
END:VEVENT
BEGIN:VEVENT
DTSTART;TZID=Europe/London:20261108T103000
DTEND;TZID=Europe/London:20261108T113000
DTSTAMP:20260425T113135
CREATED:20260327T180633Z
LAST-MODIFIED:20260327T180633Z
UID:25717-1794133800-1794137400@www.ecmvc.org
SUMMARY:Eastwood Remembrance Day Parade
DESCRIPTION:Eastwood Collieries’ Male Voice Choir are proud to have participated in recent Remembrance Day parades through Eastwood. The choir will once again be singing at the cenotaph at the top of Plumptre Way while the parade makes its way from St Mary’s Church. \nWe expect to be singing from around 10.30am.
URL:https://www.ecmvc.org/event/eastwood-remembrance-day-parade-2/
LOCATION:Eastwood Cenotaph\, Plumptre Way\, Eastwood\, Nottinghamshire\, United Kingdom
CATEGORIES:Community event
ORGANIZER;CN="Eastwood Town Council":MAILTO:townclerk@eastwood-tc.gov.uk
END:VEVENT
BEGIN:VEVENT
DTSTART;TZID=Europe/London:20261128T170000
DTEND;TZID=Europe/London:20261128T210000
DTSTAMP:20260425T113135
CREATED:20260327T181022Z
LAST-MODIFIED:20260413T205240Z
UID:25719-1795885200-1795899600@www.ecmvc.org
SUMMARY:Eastwood Christmas lights switch-on
DESCRIPTION:ECMVC have been invited to sing at the Eastwood town lights switch on event this year. \nWe will be singing in the main Library Square are from around 5pm\, immediately before the switch-on
URL:https://www.ecmvc.org/event/eastwood-christmas-lights-switch-on-provisional/
LOCATION:Eastwood Town Centre
CATEGORIES:Community event
END:VEVENT
END:VCALENDAR